BEGIN:VCALENDAR
VERSION:2.0
PRODID:-//Murillo el Cuende, Traibuenas y Rada - ECPv6.5.0//NONSGML v1.0//EN
CALSCALE:GREGORIAN
METHOD:PUBLISH
X-WR-CALNAME:Murillo el Cuende, Traibuenas y Rada
X-ORIGINAL-URL:https://murilloelcuende.net
X-WR-CALDESC:Eventos para Murillo el Cuende, Traibuenas y Rada
REFRESH-INTERVAL;VALUE=DURATION:PT1H
X-Robots-Tag:noindex
X-PUBLISHED-TTL:PT1H
BEGIN:VTIMEZONE
TZID:UTC
BEGIN:STANDARD
TZOFFSETFROM:+0000
TZOFFSETTO:+0000
TZNAME:UTC
DTSTART:20240101T000000
END:STANDARD
END:VTIMEZONE
BEGIN:VEVENT
DTSTART;VALUE=DATE:20240824
DTEND;VALUE=DATE:20240826
DTSTAMP:20260420T004708
CREATED:20240802T073737Z
LAST-MODIFIED:20240802T074252Z
UID:10000006-1724457600-1724630399@murilloelcuende.net
SUMMARY:Con los pies en las nubes
DESCRIPTION:Christopher Boone\, un niño con un trastorno autista y una capacidad intelectual deslumbrante\, decide investigar la extraña muerte del perro de su vecina. La peculiar visión del mundo de Christopher y su relación con sus padres\, y especialmente con su profesora\, dan pie a una conmovedora historia de superación\, amistad y tolerancia\, arropada por un extenso elenco de personajes que se cruzan en el camino del obstinado Christopher. \nChristopher Boonek\, trastorno autista eta gaitasun intelektual liluragarria duen haurrak\, bere auzokidearen txakurraren heriotza arraroa ikertzea erabakiko du. Christopherren mundu-ikuskera bereziak eta gurasoekin eta bereziki\, bere irakaslearekin duen harremanak\, gainditze\, adiskidetasun eta tolerantzia istorio hunkigarri bati bide ematen diote\, Christopherren bidean gurutzatzen diren pertsonaien zerrenda zabal batek babestuta.
URL:https://murilloelcuende.net/evento/con-los-pies-en-las-nubes/
LOCATION:Municipio Rada\, Rada\, Navarra\, 31383\, España
CATEGORIES:2024
ATTACH;FMTTYPE=image/jpeg:https://murilloelcuende.net/wp-content/uploads/2024/08/con-los-pies-en-las-nubes.jpg
ORGANIZER;CN="Ayto Murillo el Cuende":MAILTO:murilloelcuende@murilloelcuende.es
END:VEVENT
BEGIN:VEVENT
DTSTART;VALUE=DATE:20240825
DTEND;VALUE=DATE:20240826
DTSTAMP:20260420T004708
CREATED:20240504T172628Z
LAST-MODIFIED:20240823T124818Z
UID:10000001-1724544000-1724630399@murilloelcuende.net
SUMMARY:La Yuworki ¡Concierto de Piscinas!
DESCRIPTION:
URL:https://murilloelcuende.net/evento/la-yuworki-concierto-de-piscinas/
LOCATION:Ayto Murillo\, C/ La Esperanza\, 17\, Murillo el Cuende\, Navarra\, 31391\, España
CATEGORIES:2024
ATTACH;FMTTYPE=image/webp:https://murilloelcuende.net/wp-content/uploads/2024/05/Yuworki.webp
ORGANIZER;CN="Ayto Murillo el Cuende":MAILTO:murilloelcuende@murilloelcuende.es
END:VEVENT
END:VCALENDAR