BEGIN:VCALENDAR
VERSION:2.0
PRODID:-//Murillo el Cuende, Traibuenas y Rada - ECPv6.5.0//NONSGML v1.0//EN
CALSCALE:GREGORIAN
METHOD:PUBLISH
X-WR-CALNAME:Murillo el Cuende, Traibuenas y Rada
X-ORIGINAL-URL:https://murilloelcuende.net
X-WR-CALDESC:Eventos para Murillo el Cuende, Traibuenas y Rada
REFRESH-INTERVAL;VALUE=DURATION:PT1H
X-Robots-Tag:noindex
X-PUBLISHED-TTL:PT1H
BEGIN:VTIMEZONE
TZID:UTC
BEGIN:STANDARD
TZOFFSETFROM:+0000
TZOFFSETTO:+0000
TZNAME:UTC
DTSTART:20240101T000000
END:STANDARD
END:VTIMEZONE
BEGIN:VEVENT
DTSTART;TZID=UTC:20240609T100000
DTEND;TZID=UTC:20240609T170000
DTSTAMP:20260419T234414
CREATED:20240523T082125Z
LAST-MODIFIED:20240523T084450Z
UID:10000004-1717927200-1717952400@murilloelcuende.net
SUMMARY:Día de la bici
DESCRIPTION:DÍA DE LA BICI – 9 DE JUNIO\n¡Prepárate para un día lleno de diversión sobre dos ruedas! Únete a nosotros el 9 de junio para celebrar el Día de la Bici con actividades emocionantes y una gran comida al aire libre. \nPrograma:\n🕙 10:00 – Nos encontramos tod@s en la torre\n🥪 Almuerzo en la laguna\n🌳 14:00 – Comida en los jardines exteriores de la piscina \n🎉 Sorteo de una bici: Compra tus boletos por solo 1€ en los actos de la APYMA o pídeselos a algún miembro. \nInscripciones:\n📍 Bar de la piscina\n📅 1 de junio: 12:00 a 13:00\n📅 2 de junio: 18:00 a 19:00 \nMenú del día:\nAlmuerzo: \n\nChorizo\nSalchichón\nJamón\nPavo\nQueso\nBebidas: Aquarius\, Coca-Cola\, Agua\, Cerveza\n💰 Socios: 2€ | No socios: 3€\n\nComida: \n\nTxistorra\nPanceta\nSalchichas de pollo\nBebidas: Aquarius\, Coca-Cola\, Agua\, Cerveza\n💰 Socios: 4€ | No socios: 6€\n\n¡No te lo pierdas! Será un día lleno de diversión\, buena comida y grandes premios. ¡Te esperamos! 🚲✨
URL:https://murilloelcuende.net/evento/dia-de-la-bici/
LOCATION:Municipio Rada\, Rada\, Navarra\, 31383\, España
ATTACH;FMTTYPE=image/webp:https://murilloelcuende.net/wp-content/uploads/2024/05/Img-dia-de-la-bici-9_06_24-v2.webp
END:VEVENT
END:VCALENDAR